BEGIN:VCALENDAR
VERSION:2.0
PRODID:-//Scott Smith ◦ CLARINET - ECPv6.15.20//NONSGML v1.0//EN
CALSCALE:GREGORIAN
METHOD:PUBLISH
X-ORIGINAL-URL:https://scottgsmith-clarinet.com
X-WR-CALDESC:Events for Scott Smith ◦ CLARINET
REFRESH-INTERVAL;VALUE=DURATION:PT1H
X-Robots-Tag:noindex
X-PUBLISHED-TTL:PT1H
BEGIN:VTIMEZONE
TZID:UTC
BEGIN:STANDARD
TZOFFSETFROM:+0000
TZOFFSETTO:+0000
TZNAME:UTC
DTSTART:20210101T000000
END:STANDARD
END:VTIMEZONE
BEGIN:VEVENT
DTSTART;TZID=UTC:20260118T140000
DTEND;TZID=UTC:20260118T160000
DTSTAMP:20260423T172844
CREATED:20251020T195026Z
LAST-MODIFIED:20251020T195026Z
UID:795-1768744800-1768752000@scottgsmith-clarinet.com
SUMMARY:Prescott Chamber Players Spring Concert
DESCRIPTION:Scott performs Poulenc’s Romance from the Sonata for Clarinet with Jacque Stewart\, piano.
URL:https://scottgsmith-clarinet.com/event/prescott-chamber-players-spring-concert-6/
LOCATION:Trinity Presbyterian Church\, 630 Park Avenue\, Prescott\, AZ\, 86305\, United States
CATEGORIES:Chamber Music,Solo Performance
ATTACH;FMTTYPE=image/jpeg:https://scottgsmith-clarinet.com/wp-content/uploads/2024/08/prokoviev-e1722720540233.jpg
ORGANIZER;CN="Scott Smith":MAILTO:scottgsmith.clarinet@gmail.com
END:VEVENT
BEGIN:VEVENT
DTSTART;TZID=UTC:20251119T180000
DTEND;TZID=UTC:20251119T200000
DTSTAMP:20260423T172844
CREATED:20251020T194612Z
LAST-MODIFIED:20251020T200458Z
UID:790-1763575200-1763582400@scottgsmith-clarinet.com
SUMMARY:Copper Door Concert Series
DESCRIPTION:Scott\,  Ellen Platamone\, piano and Ruth Wilde\, cello perform a concert at First Congregational Church in Prescott as part of the Copper Door Concert Series.  Music by Finzi\, Bruch\, Cavallini and Brahms is featured.
URL:https://scottgsmith-clarinet.com/event/copper-door-concert-series/
LOCATION:First Congregational Church\, 216 E. Gurley St.\, Prescott\, AZ\, 86301\, United States
CATEGORIES:Chamber Music,Solo Performance
ATTACH;FMTTYPE=image/jpeg:https://scottgsmith-clarinet.com/wp-content/uploads/2023/09/JohannesBrahms.jpg
ORGANIZER;CN="Scott Smith":MAILTO:scottgsmith.clarinet@gmail.com
END:VEVENT
BEGIN:VEVENT
DTSTART;TZID=UTC:20250920T143000
DTEND;TZID=UTC:20250920T163000
DTSTAMP:20260423T172844
CREATED:20251017T141216Z
LAST-MODIFIED:20251017T142038Z
UID:779-1758378600-1758385800@scottgsmith-clarinet.com
SUMMARY:Prescott Chamber Players
DESCRIPTION:Scott performs Allegro tristamente and Romance from Poulenc’s Sonata for Clarinet and Piano with  Jacque Stewart\, piano.
URL:https://scottgsmith-clarinet.com/event/prescott-chamber-players-13/
LOCATION:Trinity Presbyterian Church\, 630 Park Avenue\, Prescott\, AZ\, 86305\, United States
CATEGORIES:Chamber Music,Solo Performance
ATTACH;FMTTYPE=image/jpeg:https://scottgsmith-clarinet.com/wp-content/uploads/2024/08/prokoviev-e1722720540233.jpg
ORGANIZER;CN="Scott Smith":MAILTO:scottgsmith.clarinet@gmail.com
END:VEVENT
BEGIN:VEVENT
DTSTART;TZID=UTC:20250427T140000
DTEND;TZID=UTC:20250427T153000
DTSTAMP:20260423T172844
CREATED:20240803T211453Z
LAST-MODIFIED:20250607T201214Z
UID:712-1745762400-1745767800@scottgsmith-clarinet.com
SUMMARY:Prescott Chamber Players Spring Concert
DESCRIPTION:Scott performs Nachtgesang from Max Bruch’s Eight Pieces for Clarinet\,  and Allegro amabile from the Second Sonata for Clarinet by Johannes Brahms in the Spring Concert of the Prescott Chamber Players.
URL:https://scottgsmith-clarinet.com/event/prescott-chamber-players-spring-concert-5/
LOCATION:Trinity Presbyterian Church\, 630 Park Avenue\, Prescott\, AZ\, 86305\, United States
CATEGORIES:Chamber Music,Solo Performance
ATTACH;FMTTYPE=image/jpeg:https://scottgsmith-clarinet.com/wp-content/uploads/2023/09/AmatiQuartet-copy_0.jpg
ORGANIZER;CN="Scott Smith":MAILTO:scottgsmith.clarinet@gmail.com
END:VEVENT
BEGIN:VEVENT
DTSTART;TZID=UTC:20250405T143000
DTEND;TZID=UTC:20250405T163000
DTSTAMP:20260423T172844
CREATED:20240816T175202Z
LAST-MODIFIED:20241021T151020Z
UID:739-1743863400-1743870600@scottgsmith-clarinet.com
SUMMARY:Prescott Chamber Players
DESCRIPTION:Scott and Ellen Platamone\, piano perform Allegro Amabile from Brahms second Clarinet Sonata\, op. 120 at the regular monthly meeting of the Prescott Chamber Players.
URL:https://scottgsmith-clarinet.com/event/prescott-chamber-players-12/
LOCATION:Trinity Presbyterian Church\, 630 Park Avenue\, Prescott\, AZ\, 86305\, United States
CATEGORIES:Chamber Music,Solo Performance
ATTACH;FMTTYPE=image/jpeg:https://scottgsmith-clarinet.com/wp-content/uploads/2023/09/JohannesBrahms.jpg
ORGANIZER;CN="Scott Smith":MAILTO:scottgsmith.clarinet@gmail.com
END:VEVENT
BEGIN:VEVENT
DTSTART;TZID=UTC:20250323T170000
DTEND;TZID=UTC:20250323T183000
DTSTAMP:20260423T172844
CREATED:20240803T211024Z
LAST-MODIFIED:20250607T200749Z
UID:708-1742749200-1742754600@scottgsmith-clarinet.com
SUMMARY:Classics In The Desert
DESCRIPTION:Scott Smith\, The Saguaro Quartet and Bob Coursen perform a concert recital that includes Cavallini’s Elegy\, Brahms Clarinet Quintet\, op. 115\, and Arabesques by Paul Jeanjean.
URL:https://scottgsmith-clarinet.com/event/recital-in-the-valley/
LOCATION:Palm West Community Church\, 13845 W. Stardust Blvd.\, Sun City West\, AZ\, 85375
CATEGORIES:Chamber Music,Recital,Solo Performance
ATTACH;FMTTYPE=image/jpeg:https://scottgsmith-clarinet.com/wp-content/uploads/2025/01/ClassicsInDesertPoster-032325-e1738025847140.jpg
END:VEVENT
BEGIN:VEVENT
DTSTART;TZID=UTC:20250315T143000
DTEND;TZID=UTC:20250315T163000
DTSTAMP:20260423T172844
CREATED:20240816T175002Z
LAST-MODIFIED:20241019T153346Z
UID:737-1742049000-1742056200@scottgsmith-clarinet.com
SUMMARY:Prescott Chamber Players
DESCRIPTION:Scott performs Nachtgesang from Bruch’s 8 Pieces for Clarinet\, Cello and Piano\, op. 83 with Michele Pearson\, cello and Jacque Stewart\, piano.
URL:https://scottgsmith-clarinet.com/event/prescott-chamber-players-11/
LOCATION:Trinity Presbyterian Church\, 630 Park Avenue\, Prescott\, AZ\, 86305\, United States
CATEGORIES:Chamber Music,Solo Performance
ATTACH;FMTTYPE=image/jpeg:https://scottgsmith-clarinet.com/wp-content/uploads/2023/09/Bruch.jpg
ORGANIZER;CN="Scott Smith":MAILTO:scottgsmith.clarinet@gmail.com
END:VEVENT
BEGIN:VEVENT
DTSTART;TZID=UTC:20250215T143000
DTEND;TZID=UTC:20250215T163000
DTSTAMP:20260423T172844
CREATED:20240816T174818Z
LAST-MODIFIED:20241019T153043Z
UID:735-1739629800-1739637000@scottgsmith-clarinet.com
SUMMARY:Prescott Chamber Players
DESCRIPTION:Regular monthly meeting of the Prescott Chamber Players.
URL:https://scottgsmith-clarinet.com/event/prescott-chamber-players-10/
LOCATION:Trinity Presbyterian Church\, 630 Park Avenue\, Prescott\, AZ\, 86305\, United States
CATEGORIES:Chamber Music,Solo Performance
ATTACH;FMTTYPE=image/jpeg:https://scottgsmith-clarinet.com/wp-content/uploads/2023/09/AmatiQuartet-copy_0.jpg
ORGANIZER;CN="Scott Smith":MAILTO:scottgsmith.clarinet@gmail.com
END:VEVENT
BEGIN:VEVENT
DTSTART;TZID=UTC:20250112T140000
DTEND;TZID=UTC:20250112T153000
DTSTAMP:20260423T172844
CREATED:20240803T211311Z
LAST-MODIFIED:20250607T201438Z
UID:710-1736690400-1736695800@scottgsmith-clarinet.com
SUMMARY:Prescott Chamber Players Fall Concert
DESCRIPTION:Scott performs Allegro vivace from the Trio in g by Ian Dettering in the Fall Concert of the Prescott Chamber Players.
URL:https://scottgsmith-clarinet.com/event/prescott-chamber-players-fall-concert/
LOCATION:Trinity Presbyterian Church\, 630 Park Avenue\, Prescott\, AZ\, 86305\, United States
CATEGORIES:Chamber Music,Solo Performance
ATTACH;FMTTYPE=image/jpeg:https://scottgsmith-clarinet.com/wp-content/uploads/2023/09/AmatiQuartet-copy_0.jpg
END:VEVENT
BEGIN:VEVENT
DTSTART;TZID=UTC:20241202T110000
DTEND;TZID=UTC:20241202T120000
DTSTAMP:20260423T172844
CREATED:20240803T205926Z
LAST-MODIFIED:20241030T144114Z
UID:702-1733137200-1733140800@scottgsmith-clarinet.com
SUMMARY:Monday Morning Musicale
DESCRIPTION:Scott and Carol Fuchs\, piano\, perform Duo for Clarinet and Piano\, op. 15 by Norbert Burgmuller.
URL:https://scottgsmith-clarinet.com/event/monday-morning-musicale-2/
LOCATION:Kerr Cultural Center\, 6110 N Scottsdale Rd.\, Scottsdale\, AZ\, 85253\, United States
CATEGORIES:Chamber Music,Solo Performance
ATTACH;FMTTYPE=image/jpeg:https://scottgsmith-clarinet.com/wp-content/uploads/2022/09/kerrcenter.jpg
ORGANIZER;CN="Scott Smith":MAILTO:scottgsmith.clarinet@gmail.com
END:VEVENT
BEGIN:VEVENT
DTSTART;TZID=UTC:20241116T143000
DTEND;TZID=UTC:20241116T163000
DTSTAMP:20260423T172844
CREATED:20240816T174549Z
LAST-MODIFIED:20241019T151246Z
UID:733-1731767400-1731774600@scottgsmith-clarinet.com
SUMMARY:Prescott Chamber Players
DESCRIPTION:Scott performs with friends at the regular monthly meeting of the Prescott Chamber Players.  Program includes mvts. 2 and 4 from Ian Detering’s Trio in g minor\, op. 21.  Scott and Jacque Stewart\, piano will also be playing the 1st movement\, Andantino\, from Prokofiev’s Sonata op. 94.
URL:https://scottgsmith-clarinet.com/event/prescott-chamber-players-9/
LOCATION:Trinity Presbyterian Church\, 630 Park Avenue\, Prescott\, AZ\, 86305\, United States
CATEGORIES:Chamber Music,Solo Performance
ATTACH;FMTTYPE=image/jpeg:https://scottgsmith-clarinet.com/wp-content/uploads/2024/08/prokoviev-e1722720540233.jpg
ORGANIZER;CN="Scott Smith":MAILTO:scottgsmith.clarinet@gmail.com
END:VEVENT
BEGIN:VEVENT
DTSTART;TZID=UTC:20241027T150000
DTEND;TZID=UTC:20241027T170000
DTSTAMP:20260423T172844
CREATED:20240803T211901Z
LAST-MODIFIED:20241019T150629Z
UID:714-1730041200-1730048400@scottgsmith-clarinet.com
SUMMARY:Chandler Chamber Series
DESCRIPTION:Scott and Carol Fuchs\, piano\, perform Forlana and Romance from Finzi’s Five Bagatelles\, op. 23 followed by Duo for Clarinet and Piano\, op. 15 by Norbert Burgmuller.  This is the annual recital of the Chandler Chamber series in Phoenix.
URL:https://scottgsmith-clarinet.com/event/714/
LOCATION:Risen Savior Lutheran Church\, 23914 S Alma School Rd\, Sun Lakes\, AZ\, 85248\, United States
CATEGORIES:Chamber Music,Solo Performance
ATTACH;FMTTYPE=image/jpeg:https://scottgsmith-clarinet.com/wp-content/uploads/2022/06/Burgmuller-e1655258956626.jpg
END:VEVENT
BEGIN:VEVENT
DTSTART;TZID=UTC:20241019T143000
DTEND;TZID=UTC:20241019T163000
DTSTAMP:20260423T172844
CREATED:20240816T174223Z
LAST-MODIFIED:20241019T150120Z
UID:730-1729348200-1729355400@scottgsmith-clarinet.com
SUMMARY:Prescott Chamber Players
DESCRIPTION:Regular monthly meeting of the Prescott Chamber Players.
URL:https://scottgsmith-clarinet.com/event/prescott-chamber-player/
LOCATION:Trinity Presbyterian Church\, 630 Park Avenue\, Prescott\, AZ\, 86305\, United States
CATEGORIES:Chamber Music,Solo Performance
ATTACH;FMTTYPE=image/jpeg:https://scottgsmith-clarinet.com/wp-content/uploads/2023/09/AmatiQuartet-copy_0.jpg
ORGANIZER;CN="Scott Smith":MAILTO:scottgsmith.clarinet@gmail.com
END:VEVENT
BEGIN:VEVENT
DTSTART;TZID=UTC:20240519T150000
DTEND;TZID=UTC:20240519T170000
DTSTAMP:20260423T172844
CREATED:20240504T231439Z
LAST-MODIFIED:20240504T231439Z
UID:691-1716130800-1716138000@scottgsmith-clarinet.com
SUMMARY:Sunday Classics West
DESCRIPTION:Scott performs for the Sunday Classics West in Phoenix\, in a program that includes the Andante from Johannes Brahms Sonata no. 1\, op. 120\, Heinrich Baermann’s (1784 – 1847) Adagio and  Ernesto Cavallini’s (1807 – 1874) Serenata in Eb.  Joining Scott will be Carol Fuchs\, piano.
URL:https://scottgsmith-clarinet.com/event/sunday-classics-west-2/
LOCATION:Sunday Classics West\, 1849 W Marlette Ave\, Phoenix\, Arizona\, 85015
CATEGORIES:Chamber Music,Solo Performance
ATTACH;FMTTYPE=image/jpeg:https://scottgsmith-clarinet.com/wp-content/uploads/2023/09/JohannesBrahms.jpg
ORGANIZER;CN="Scott Smith":MAILTO:scottgsmith.clarinet@gmail.com
END:VEVENT
BEGIN:VEVENT
DTSTART;TZID=UTC:20240420T143000
DTEND;TZID=UTC:20240420T163000
DTSTAMP:20260423T172844
CREATED:20230903T215950Z
LAST-MODIFIED:20230903T220827Z
UID:621-1713623400-1713630600@scottgsmith-clarinet.com
SUMMARY:Prescott Chamber Players
DESCRIPTION:Scott and Carol Fuchs\, Michele Pearson perform Rumanische Melodie (Romanian melody) and Nachtsang (night singing) from Max Bruch’s (1838 – 1920) Eight Pieces op. 83 for clarinet\, cello and piano.  Scott will also play in the Scherzo from Brahms Serenade No. 1.
URL:https://scottgsmith-clarinet.com/event/prescott-chamber-players-8/
LOCATION:Trinity Presbyterian Church\, 630 Park Avenue\, Prescott\, AZ\, 86305\, United States
CATEGORIES:Chamber Music,Solo Performance
ATTACH;FMTTYPE=image/jpeg:https://scottgsmith-clarinet.com/wp-content/uploads/2023/09/Bruch.jpg
ORGANIZER;CN="Scott Smith":MAILTO:scottgsmith.clarinet@gmail.com
END:VEVENT
BEGIN:VEVENT
DTSTART;TZID=UTC:20240317T170000
DTEND;TZID=UTC:20240317T190000
DTSTAMP:20260423T172844
CREATED:20230903T214221Z
LAST-MODIFIED:20240208T180512Z
UID:618-1710694800-1710702000@scottgsmith-clarinet.com
SUMMARY:Solo Recital in The Valley
DESCRIPTION:Scott performs a solo recital that includes the Clarinet Quintet K. 581 by W.A. Mozart (1756 – 1791)\, Schubert’s (1797 – 1828) Der Hirt Auf Dem Felsen (Shepherd On The Rock) and Ernesto Cavallini’s (1807 – 1874) Serenata for clarinet and piano.  Joining Scott will be Carol Fuchs\, piano\, Jessica Dreifuss\, soprano\, and strings from The Classic Touch Strings and Orchestras.
URL:https://scottgsmith-clarinet.com/event/solo-recital-in-the-valley/
LOCATION:Palm West Community Church\, 13845 W. Stardust Blvd.\, Sun City West\, AZ\, 85375
CATEGORIES:Chamber Music,Recital,Solo Performance
ATTACH;FMTTYPE=image/jpeg:https://scottgsmith-clarinet.com/wp-content/uploads/2024/02/ScottRecitalProgram-031724-e1707415467756.jpg
ORGANIZER;CN="Scott Smith":MAILTO:scottgsmith.clarinet@gmail.com
END:VEVENT
BEGIN:VEVENT
DTSTART;TZID=UTC:20240316T143000
DTEND;TZID=UTC:20240316T163000
DTSTAMP:20260423T172844
CREATED:20230903T213049Z
LAST-MODIFIED:20230903T213309Z
UID:616-1710599400-1710606600@scottgsmith-clarinet.com
SUMMARY:Prescott Chamber Players
DESCRIPTION:Carol Fuchs joins with Scott for a performance of Ernesto Cavallini’s (1807 – 1874) Serenata for Clarinet and Piano.  Donald Harvey\, horn\, Ginger Scudder\, bassoon and Jacque Stewart\, and Scott perform Landscapes\, by American composer Daniel Baldwin.
URL:https://scottgsmith-clarinet.com/event/prescott-chamber-players-7/
LOCATION:Trinity Presbyterian Church\, 630 Park Avenue\, Prescott\, AZ\, 86305\, United States
CATEGORIES:Chamber Music,Solo Performance
ATTACH;FMTTYPE=image/jpeg:https://scottgsmith-clarinet.com/wp-content/uploads/2022/06/0cavalliniernesto01a-e1655258068758.jpg
END:VEVENT
BEGIN:VEVENT
DTSTART;TZID=UTC:20240114T140000
DTEND;TZID=UTC:20240114T160000
DTSTAMP:20260423T172844
CREATED:20231227T153726Z
LAST-MODIFIED:20240102T155836Z
UID:652-1705240800-1705248000@scottgsmith-clarinet.com
SUMMARY:Prescott Chamber Players Winter Concert
DESCRIPTION:Scott performs Ernesto Cavallini’s (1807 – 1874) Adagio Sentimentale and the Larghetto from Mozart’s (1756 – 1791) Clarinet Quintet\, K. 581 at a Public Concert of the Prescott Chamber Players.
URL:https://scottgsmith-clarinet.com/event/prescott-chamber-players-winter-concert-5/
LOCATION:Trinity Presbyterian Church\, 630 Park Avenue\, Prescott\, AZ\, 86305\, United States
CATEGORIES:Chamber Music,Solo Performance
ATTACH;FMTTYPE=image/jpeg:https://scottgsmith-clarinet.com/wp-content/uploads/2024/01/Scott-PicPalmWest-scaled-e1704211110186.jpg
ORGANIZER;CN="Scott Smith":MAILTO:scottgsmith.clarinet@gmail.com
END:VEVENT
BEGIN:VEVENT
DTSTART;TZID=UTC:20231118T143000
DTEND;TZID=UTC:20231118T163000
DTSTAMP:20260423T172844
CREATED:20230903T211417Z
LAST-MODIFIED:20230905T134818Z
UID:612-1700317800-1700325000@scottgsmith-clarinet.com
SUMMARY:Prescott Chamber Players
DESCRIPTION:Carol Fuchs\, piano and Scott perform Adagio Sentimentale by Ernesto Cavallini (1807 – 1874) at the regular monthly meeting of the Prescott Chamber Players Society.
URL:https://scottgsmith-clarinet.com/event/prescott-chamber-players-6/
LOCATION:Trinity Presbyterian Church\, 630 Park Avenue\, Prescott\, AZ\, 86305\, United States
CATEGORIES:Chamber Music,Solo Performance
ATTACH;FMTTYPE=image/jpeg:https://scottgsmith-clarinet.com/wp-content/uploads/2022/09/ErnestoCavallini.jpg
END:VEVENT
BEGIN:VEVENT
DTSTART;TZID=UTC:20231106T100000
DTEND;TZID=UTC:20231106T120000
DTSTAMP:20260423T172844
CREATED:20230903T210401Z
LAST-MODIFIED:20230903T210920Z
UID:605-1699264800-1699272000@scottgsmith-clarinet.com
SUMMARY:Monday Morning Musicale
DESCRIPTION:Jesicca Dreifuss\, soprano and Carol Fuchs\, piano join Scott for a performance of Franz Schubert’s (1797 – 1828) sublime Der Hirt Auf Dem Felsen (Shepherd On The Rock)\, D. 965.  Scott and Jacque will also perform Ernesto Cavallini’s (1807 – 1874)  Adagio Sentimentale.  
URL:https://scottgsmith-clarinet.com/event/605/
LOCATION:Kerr Cultural Center\, 6110 N Scottsdale Rd.\, Scottsdale\, AZ\, 85253\, United States
CATEGORIES:Chamber Music,Solo Performance
ATTACH;FMTTYPE=image/jpeg:https://scottgsmith-clarinet.com/wp-content/uploads/2023/09/Schubert.jpg
END:VEVENT
BEGIN:VEVENT
DTSTART;TZID=UTC:20231029T150000
DTEND;TZID=UTC:20231029T170000
DTSTAMP:20260423T172844
CREATED:20230903T203839Z
LAST-MODIFIED:20230903T205649Z
UID:595-1698591600-1698598800@scottgsmith-clarinet.com
SUMMARY:Chandler Chamber Concert
DESCRIPTION:Scott and Carol Fuchs\, piano perform the Andante from the Clarinet Sonata No. 1 by Johannes Brahms (1833 – 1897) and Adagio Sentimentale by Ernesto Cavallini (1807 – 1874) in Sun Lakes\, AZ.
URL:https://scottgsmith-clarinet.com/event/chandler-chamber-concert/
LOCATION:Risen Savior Lutheran Church\, 23914 S Alma School Rd\, Sun Lakes\, AZ\, 85248\, United States
CATEGORIES:Chamber Music,Solo Performance
ATTACH;FMTTYPE=image/jpeg:https://scottgsmith-clarinet.com/wp-content/uploads/2023/09/AmatiQuartet-copy_0.jpg
END:VEVENT
BEGIN:VEVENT
DTSTART;TZID=UTC:20231021T143000
DTEND;TZID=UTC:20231021T163000
DTSTAMP:20260423T172844
CREATED:20230903T202500Z
LAST-MODIFIED:20230903T202500Z
UID:593-1697898600-1697905800@scottgsmith-clarinet.com
SUMMARY:Prescott Chamber Players
DESCRIPTION:Scott performs the Larghetto from Mozart’s Clarinet Quintet\, K. 581 with strings from the PCPS.   Donald Harvey\, horn and Jacque Stewart\, piano join Scott in a performance of the 1st movement\, Moderato\, from Gustav Jenner’s Trio in Eb.
URL:https://scottgsmith-clarinet.com/event/prescott-chamber-players-5/
LOCATION:Trinity Presbyterian Church\, 630 Park Avenue\, Prescott\, AZ\, 86305\, United States
CATEGORIES:Chamber Music,Solo Performance
ATTACH;FMTTYPE=image/jpeg:https://scottgsmith-clarinet.com/wp-content/uploads/2022/06/mozart2-1-e1655248231373.jpg
ORGANIZER;CN="Scott Smith":MAILTO:scottgsmith.clarinet@gmail.com
END:VEVENT
BEGIN:VEVENT
DTSTART;TZID=UTC:20231001T150000
DTEND;TZID=UTC:20231001T170000
DTSTAMP:20260423T172844
CREATED:20230903T001502Z
LAST-MODIFIED:20230905T134534Z
UID:587-1696172400-1696179600@scottgsmith-clarinet.com
SUMMARY:Sunday Classics East
DESCRIPTION:Carol Fuchs\, piano and Scott Smith perform the Andante from the Clarinet Sonata No. 1 by Johannes Brahms (1833 -1897) and Adagio Sentimentale  by Ernesto Cavallini (1807-1874)\, at the Sunday Classics Chamber Club in Mesa\, Arizona.
URL:https://scottgsmith-clarinet.com/event/sunday-classics-east-3/
LOCATION:Sunday Classics Club East\, 4134 E. Glencove St.\, Mesa\, Arizona\, 85205
CATEGORIES:Chamber Music,Solo Performance
ATTACH;FMTTYPE=image/jpeg:https://scottgsmith-clarinet.com/wp-content/uploads/2023/09/JohannesBrahms.jpg
ORGANIZER;CN="Scott Smith":MAILTO:scottgsmith.clarinet@gmail.com
END:VEVENT
BEGIN:VEVENT
DTSTART;TZID=UTC:20230423T140000
DTEND;TZID=UTC:20230423T150000
DTSTAMP:20260423T172844
CREATED:20220618T182847Z
LAST-MODIFIED:20220618T183632Z
UID:460-1682258400-1682262000@scottgsmith-clarinet.com
SUMMARY:Prescott Chamber Players Spring Concert
DESCRIPTION:
URL:https://scottgsmith-clarinet.com/event/prescott-chamber-players-spring-concert-4/
LOCATION:Trinity Presbyterian Church\, 630 Park Avenue\, Prescott\, AZ\, 86305\, United States
CATEGORIES:Chamber Music,Solo Performance
ATTACH;FMTTYPE=image/jpeg:https://scottgsmith-clarinet.com/wp-content/uploads/2022/06/pcpstn.jpg
ORGANIZER;CN="Scott Smith":MAILTO:scottgsmith.clarinet@gmail.com
END:VEVENT
BEGIN:VEVENT
DTSTART;TZID=UTC:20230416T150000
DTEND;TZID=UTC:20230416T170000
DTSTAMP:20260423T172844
CREATED:20220614T000815Z
LAST-MODIFIED:20220908T141242Z
UID:338-1681657200-1681664400@scottgsmith-clarinet.com
SUMMARY:Mozart Clarinet Concerto in A:  Allegro
DESCRIPTION:Scott performs the first movement\, Allegro of the Mozart Clarinet Concerto K. 622 with the Central Arizona Concert Band.   A wonderful transcription for band is provided by the United States Army Field Band from Ft. Meade\, MD with the clarinet in the original key of A.
URL:https://scottgsmith-clarinet.com/event/mozart-clarinet-concerto-in-a-allegro/
LOCATION:Embry Riddle University\, 3700 Willow Creek Rd\, Prescott\, AZ\, 86301\, United States
CATEGORIES:Concert Band,Solo Performance
ATTACH;FMTTYPE=image/jpeg:https://scottgsmith-clarinet.com/wp-content/uploads/2022/06/mozart2-1-e1655248231373.jpg
END:VEVENT
BEGIN:VEVENT
DTSTART;TZID=UTC:20230122T140000
DTEND;TZID=UTC:20230122T150000
DTSTAMP:20260423T172844
CREATED:20220618T182730Z
LAST-MODIFIED:20220618T182918Z
UID:458-1674396000-1674399600@scottgsmith-clarinet.com
SUMMARY:Prescott Chamber Players Winter Concert
DESCRIPTION:
URL:https://scottgsmith-clarinet.com/event/prescott-chamber-players-winter-concert-4/
LOCATION:Trinity Presbyterian Church\, 630 Park Avenue\, Prescott\, AZ\, 86305\, United States
CATEGORIES:Chamber Music,Solo Performance
ATTACH;FMTTYPE=image/jpeg:https://scottgsmith-clarinet.com/wp-content/uploads/2022/06/pcpstn.jpg
ORGANIZER;CN="Scott Smith":MAILTO:scottgsmith.clarinet@gmail.com
END:VEVENT
BEGIN:VEVENT
DTSTART;TZID=UTC:20221106T150000
DTEND;TZID=UTC:20221106T150000
DTSTAMP:20260423T172844
CREATED:20220615T020725Z
LAST-MODIFIED:20220713T180301Z
UID:444-1667746800-1667746800@scottgsmith-clarinet.com
SUMMARY:Sunday Classics East
DESCRIPTION:Carol Fuchs\, piano and Scott Smith perform Duo for Clarinet and Piano\, op. 16 by Norbert Burgmuller (1810-1836) and  Adagio e Tarantella by Ernesto Cavallini (1807-1874)\, at the Sunday Classics Chamber Club in Mesa\, Arizona.
URL:https://scottgsmith-clarinet.com/event/sunday-classics-east-2/
LOCATION:Sunday Classics Club East\, 4134 E. Glencove St.\, Mesa\, Arizona\, 85205
CATEGORIES:Chamber Music,Solo Performance
ATTACH;FMTTYPE=image/jpeg:https://scottgsmith-clarinet.com/wp-content/uploads/2022/06/Burgmuller-e1655258956626.jpg
END:VEVENT
BEGIN:VEVENT
DTSTART;TZID=UTC:20221015T143000
DTEND;TZID=UTC:20221015T163000
DTSTAMP:20260423T172844
CREATED:20220914T013819Z
LAST-MODIFIED:20220914T051829Z
UID:567-1665844200-1665851400@scottgsmith-clarinet.com
SUMMARY:Prescott Chamber Players
DESCRIPTION:Scott performs Adagio e Tarantella by Ernesto Cavallini (“Paganini of the clarinet”)\, with Carol Fuchs on piano\, at a meeting of the Prescott Chamber Players.
URL:https://scottgsmith-clarinet.com/event/prescott-chamber-players-4/
LOCATION:Trinity Presbyterian Church\, 630 Park Avenue\, Prescott\, AZ\, 86305\, United States
CATEGORIES:Chamber Music,Solo Performance
ATTACH;FMTTYPE=image/jpeg:https://scottgsmith-clarinet.com/wp-content/uploads/2022/09/ErnestoCavallini.jpg
END:VEVENT
BEGIN:VEVENT
DTSTART;TZID=UTC:20221003T100000
DTEND;TZID=UTC:20221003T110000
DTSTAMP:20260423T172844
CREATED:20220905T210629Z
LAST-MODIFIED:20220905T211448Z
UID:497-1664791200-1664794800@scottgsmith-clarinet.com
SUMMARY:Monday Morning Musicale
DESCRIPTION:Scott and Carol Fuchs\, piano perform for the Monday Morning Musicale at ASU Cultural Center in Scottsdale.  On the program is Adagio e Tarentella by Ernesto Cavallini and Duo for Clarinet and Piano\, op. 15 by Norbert Burgmuller.
URL:https://scottgsmith-clarinet.com/event/monday-morning-musicale/
LOCATION:Kerr Cultural Center\, 6110 N Scottsdale Rd.\, Scottsdale\, AZ\, 85253\, United States
CATEGORIES:Chamber Music,Solo Performance
ATTACH;FMTTYPE=image/jpeg:https://scottgsmith-clarinet.com/wp-content/uploads/2022/09/kerrcenter.jpg
END:VEVENT
BEGIN:VEVENT
DTSTART;TZID=UTC:20220918T100000
DTEND;TZID=UTC:20220918T110000
DTSTAMP:20260423T172844
CREATED:20220908T143745Z
LAST-MODIFIED:20220910T215358Z
UID:534-1663495200-1663498800@scottgsmith-clarinet.com
SUMMARY:Give Me Jesus
DESCRIPTION:Scott plays with the choir of Trinity Church in Prescott\, “Give Me Jesus”.
URL:https://scottgsmith-clarinet.com/event/what-a-friend-we-have-in-jesus/
LOCATION:Trinity Presbyterian Church\, 630 Park Avenue\, Prescott\, AZ\, 86305\, United States
CATEGORIES:Choir,Solo Performance
ATTACH;FMTTYPE=image/jpeg:https://scottgsmith-clarinet.com/wp-content/uploads/2022/09/trinitypres-1024x768-2-1.jpg
END:VEVENT
END:VCALENDAR