BEGIN:VCALENDAR
VERSION:2.0
PRODID:-//Scott Smith ◦ CLARINET - ECPv6.15.20//NONSGML v1.0//EN
CALSCALE:GREGORIAN
METHOD:PUBLISH
X-WR-CALNAME:Scott Smith ◦ CLARINET
X-ORIGINAL-URL:https://scottgsmith-clarinet.com
X-WR-CALDESC:Events for Scott Smith ◦ CLARINET
REFRESH-INTERVAL;VALUE=DURATION:PT1H
X-Robots-Tag:noindex
X-PUBLISHED-TTL:PT1H
BEGIN:VTIMEZONE
TZID:UTC
BEGIN:STANDARD
TZOFFSETFROM:+0000
TZOFFSETTO:+0000
TZNAME:UTC
DTSTART:20180101T000000
END:STANDARD
END:VTIMEZONE
BEGIN:VEVENT
DTSTART;TZID=UTC:20230416T150000
DTEND;TZID=UTC:20230416T170000
DTSTAMP:20260423T202304
CREATED:20220614T000815Z
LAST-MODIFIED:20220908T141242Z
UID:338-1681657200-1681664400@scottgsmith-clarinet.com
SUMMARY:Mozart Clarinet Concerto in A:  Allegro
DESCRIPTION:Scott performs the first movement\, Allegro of the Mozart Clarinet Concerto K. 622 with the Central Arizona Concert Band.   A wonderful transcription for band is provided by the United States Army Field Band from Ft. Meade\, MD with the clarinet in the original key of A.
URL:https://scottgsmith-clarinet.com/event/mozart-clarinet-concerto-in-a-allegro/
LOCATION:Embry Riddle University\, 3700 Willow Creek Rd\, Prescott\, AZ\, 86301\, United States
CATEGORIES:Concert Band,Solo Performance
ATTACH;FMTTYPE=image/jpeg:https://scottgsmith-clarinet.com/wp-content/uploads/2022/06/mozart2-1-e1655248231373.jpg
END:VEVENT
BEGIN:VEVENT
DTSTART;TZID=UTC:20230129T150000
DTEND;TZID=UTC:20230129T170000
DTSTAMP:20260423T202304
CREATED:20220614T140800Z
LAST-MODIFIED:20220615T012341Z
UID:399-1675004400-1675011600@scottgsmith-clarinet.com
SUMMARY:Central Arizona Concert Band
DESCRIPTION:
URL:https://scottgsmith-clarinet.com/event/central-arizona-concert-band-3/
LOCATION:Embry Riddle University\, 3700 Willow Creek Rd\, Prescott\, AZ\, 86301\, United States
CATEGORIES:Concert Band
ATTACH;FMTTYPE=image/jpeg:https://scottgsmith-clarinet.com/wp-content/uploads/2022/06/CACBlogo-e1655256172660.jpg
END:VEVENT
BEGIN:VEVENT
DTSTART;TZID=UTC:20221120T150000
DTEND;TZID=UTC:20221120T170000
DTSTAMP:20260423T202304
CREATED:20220614T140508Z
LAST-MODIFIED:20220615T012437Z
UID:395-1668956400-1668963600@scottgsmith-clarinet.com
SUMMARY:Central Arizona Concert Band
DESCRIPTION:
URL:https://scottgsmith-clarinet.com/event/central-arizona-concert-band-2/
LOCATION:Embry Riddle University\, 3700 Willow Creek Rd\, Prescott\, AZ\, 86301\, United States
CATEGORIES:Concert Band
ATTACH;FMTTYPE=image/jpeg:https://scottgsmith-clarinet.com/wp-content/uploads/2022/06/CACBlogo-e1655256172660.jpg
END:VEVENT
BEGIN:VEVENT
DTSTART;TZID=UTC:20221009T150000
DTEND;TZID=UTC:20221009T170000
DTSTAMP:20260423T202304
CREATED:20220614T140413Z
LAST-MODIFIED:20220615T012501Z
UID:393-1665327600-1665334800@scottgsmith-clarinet.com
SUMMARY:Central Arizona Concert Band
DESCRIPTION:
URL:https://scottgsmith-clarinet.com/event/central-arizona-concert-band/
LOCATION:Embry Riddle University\, 3700 Willow Creek Rd\, Prescott\, AZ\, 86301\, United States
CATEGORIES:Concert Band
ATTACH;FMTTYPE=image/jpeg:https://scottgsmith-clarinet.com/wp-content/uploads/2022/06/CACBlogo-e1655256172660.jpg
END:VEVENT
BEGIN:VEVENT
DTSTART;TZID=UTC:20190407T150000
DTEND;TZID=UTC:20190407T170000
DTSTAMP:20260423T202304
CREATED:20220615T142105Z
LAST-MODIFIED:20220615T142301Z
UID:450-1554649200-1554656400@scottgsmith-clarinet.com
SUMMARY:Copland Clarinet Concerto
DESCRIPTION:Scott performs the Clarinet Concerto by Aaron Copland with the Central Arizona Concert Band.
URL:https://scottgsmith-clarinet.com/event/copland-clarinet-concerto/
LOCATION:Embry Riddle University\, 3700 Willow Creek Rd\, Prescott\, AZ\, 86301\, United States
CATEGORIES:Concert Band,Solo Performance
ATTACH;FMTTYPE=image/jpeg:https://scottgsmith-clarinet.com/wp-content/uploads/2022/06/CACBprogram040719.jpeg
END:VEVENT
END:VCALENDAR